BEGIN:VCALENDAR
VERSION:2.0
PRODID:icalendar-ruby
CALSCALE:GREGORIAN
METHOD:PUBLISH
BEGIN:VEVENT
DTSTAMP:20260426T002903Z
UID:5-1539992@westviewmbc.com
DTSTART:20260927T180000Z
DTEND:20260927T190000Z
CLASS:PUBLIC
CREATED:20260425T161926
DESCRIPTION:Sunday Worship
LAST-MODIFIED:20260425T161926
LOCATION:
SUMMARY:Sunday Worship
URL;VALUE=URI:https://westviewmbc.com/events/sunday-worship/2026-09-27
END:VEVENT
END:VCALENDAR
