BEGIN:VCALENDAR
VERSION:2.0
PRODID:icalendar-ruby
CALSCALE:GREGORIAN
METHOD:PUBLISH
BEGIN:VEVENT
DTSTAMP:20260425T205324Z
UID:5-1539611@westviewmbc.com
DTSTART:20260913T180000Z
DTEND:20260913T190000Z
CLASS:PUBLIC
CREATED:20260425T133620
DESCRIPTION:Sunday Worship
LAST-MODIFIED:20260425T133620
LOCATION:
SUMMARY:Sunday Worship
URL;VALUE=URI:https://westviewmbc.com/events/sunday-worship/2026-09-13
END:VEVENT
END:VCALENDAR
