BEGIN:VCALENDAR
VERSION:2.0
PRODID:icalendar-ruby
CALSCALE:GREGORIAN
METHOD:PUBLISH
BEGIN:VEVENT
DTSTAMP:20260425T175119Z
UID:5-1538851@westviewmbc.com
DTSTART:20260830T180000Z
DTEND:20260830T190000Z
CLASS:PUBLIC
CREATED:20260425T081453
DESCRIPTION:Sunday Worship
LAST-MODIFIED:20260425T081453
LOCATION:
SUMMARY:Sunday Worship
URL;VALUE=URI:https://westviewmbc.com/events/sunday-worship/2026-08-30
END:VEVENT
END:VCALENDAR
