BEGIN:VCALENDAR
VERSION:2.0
PRODID:icalendar-ruby
CALSCALE:GREGORIAN
METHOD:PUBLISH
BEGIN:VEVENT
DTSTAMP:20260425T141540Z
UID:5-1538470@westviewmbc.com
DTSTART:20260816T180000Z
DTEND:20260816T190000Z
CLASS:PUBLIC
CREATED:20260425T053359
DESCRIPTION:Sunday Worship
LAST-MODIFIED:20260425T053359
LOCATION:
SUMMARY:Sunday Worship
URL;VALUE=URI:https://westviewmbc.com/events/sunday-worship/2026-08-16
END:VEVENT
END:VCALENDAR
