BEGIN:VCALENDAR
VERSION:2.0
PRODID:icalendar-ruby
CALSCALE:GREGORIAN
METHOD:PUBLISH
BEGIN:VEVENT
DTSTAMP:20260425T105537Z
UID:5-1538089@westviewmbc.com
DTSTART:20260802T180000Z
DTEND:20260802T190000Z
CLASS:PUBLIC
CREATED:20260424T195032
DESCRIPTION:Sunday Worship
LAST-MODIFIED:20260424T195032
LOCATION:
SUMMARY:Sunday Worship
URL;VALUE=URI:https://westviewmbc.com/events/sunday-worship/2026-08-02
END:VEVENT
END:VCALENDAR
