BEGIN:VCALENDAR
VERSION:2.0
PRODID:icalendar-ruby
CALSCALE:GREGORIAN
METHOD:PUBLISH
BEGIN:VEVENT
DTSTAMP:20260422T100646Z
UID:8-1498785@westviewmbc.com
DTSTART:20260425T170000Z
DTEND:20260425T210000Z
CLASS:PUBLIC
CREATED:20260407T202913
DESCRIPTION:
LAST-MODIFIED:20260407T202913
LOCATION:Westview Missionary Baptist Church
SUMMARY:Spring Fest
URL;VALUE=URI:https://westviewmbc.com/events/spring-fest/2026-04-25
ATTACH;FILENAME=IMG_6395.JPEG;FMTTYPE=image/jpeg:https://dq5pwpg1q8ru0.clou
 dfront.net/2026/04/08/03/29/13/312b1250-1116-4bfd-94ab-aa68b1836eec/IMG_63
 95.JPEG
END:VEVENT
END:VCALENDAR
